Workbook
Name C_: MID(ADDRESS(1,1,1,FALSE),3,1)
Name HeaderAttrRowCount: COUNTA([1]HeaderPrompt!$A:$A)
Name HeaderSheetTypeCode: INDEX(Classification_Attributes!HeaderTypeCodeAll,MATCH(SheetName,Classification_Attributes!HeaderTypeCodeAll,0),1)
Name HeaderSheetTypeCode: INDEX(HeaderTypeCodeAll,MATCH(SheetName,HeaderTypeCodeAll,0),1)
Name HeaderTypeAvaliableAttr: INDIRECT("HeaderPrompt!B"&MATCH(HeaderSheetTypeCode,HeaderTypeCodeAll,0)+1&":B"&MATCH(HeaderSheetTypeCode,HeaderTypeCodeAll,0)+COUNTIF(HeaderTypeCodeAll,HeaderSheetTypeCode))
Name HeaderTypeCode: [1]HeaderPrompt!$A$1
Name HeaderTypeCodeAll: INDIRECT("HeaderPrompt!"&R_&2&C_&COLUMN(HeaderTypeCode)&":"&R_&HeaderAttrRowCount&C_&COLUMN(HeaderTypeCode),FALSE)
Name HeaderTypeCodeAll: INDIRECT("HeaderPrompt!"&R_&2&C_&COLUMN(HeaderTypeCode)&":"&R_&HeaderAttrRowCount&C_&COLUMN(HeaderTypeCode),FALSE)
Name R_: LEFT(ADDRESS(1,1,1,FALSE))
Name SheetName: MID(CELL("filename",INDIRECT("$A$1")),FIND("]",CELL("filename",INDIRECT("$A$1")))+1,255)

Sheet Sheet1
A1: Approval | B1: Article Number*^ | D1: Identifier[en] | E1: Identifier[es_AR] | F1: Description[en] | G1: Description[es_AR]
A2: approved | B2: 30668927 | C2: =B2*1 -> 30668927 | D2: Dermawhite® WF C BC10046 | E2: Dermawhite® WF C BC10046 | F2: <p>Complejo optimizado de&nbsp; extractos de plantas con&nbsp; efecto clareador express</p> | G2: <p>Complejo optimizado de&nbsp; extractos de plantas con&nbsp; efecto clareador express</p>
A3: approved | B3: 30089491 | C3: =B3*1 -> 30089491 | D3: Pluracare® F127 Prill | E3: Pluracare® F127 Prill | F3: <p>Pluracare&reg; F127 Prill es un espesante, gelificante, coemulsionante y agente de cuerpo en dent&iacute;fricos, enjuagues bucales, cremas y emulsiones l&iacute;quidas</p> | G3: <p>Pluracare&reg; F127 Prill es un espesante, gelificante, coemulsionante y agente de cuerpo en dent&iacute;fricos, enjuagues bucales, cremas y emulsiones l&iacute;quidas</p>
A4: approved | B4: 30483790 | C4: =B4*1 -> 30483790 | D4: TINOGARD® TT | E4: TINOGARD® TT
A5: unapproved | B5: 30528720 | C5: =B5*1 -> 30528720 | D5: ISOPROPYL PALMITATE | E5: ISOPROPYL PALMITATE
A6: approved | B6: 30563742 | C6: =B6*1 -> 30563742 | D6: ULTRA FILLING SPHERES® C00487 | E6: ULTRA FILLING SPHERES® C00487 | F6: <p>Microesferas deshidratadas suspendidas al 0,2% en fase oleosa (palmitato de Etilhexilo y Trihidroxiestearina); &Aacute;cido hialur&oacute;nico</p> | G6: <p>Microesferas deshidratadas suspendidas al 0,2% en fase oleosa (palmitato de Etilhexilo y Trihidroxiestearina); &Aacute;cido hialur&oacute;nico</p>
A7: approved | B7: 30756049 | C7: =B7*1 -> 30756049 | D7: SOLUPRAT™ Jabón Líquido | E7: SOLUPRAT™ Jabón Líquido | F7: <p style="margin-left:0cm; margin-right:0cm">La l&iacute;nea <strong>Soluprat &trade;</strong> para el cuidado personal permite satisfacer las principales demandas del mercado de forma &aacute;gil y segura, reduciendo las preocupaciones y tiempo por un nuevo desarrollo. &iexcl;En solo 2 pasos, diluci&oacute;n de la base y personalizaci&oacute;n del producto, tendr&aacute; una formulaci&oacute;n comparable con las principales marcas del mercado!</p> | G7: <p>La l&iacute;nea <strong>Soluprat &trade;</strong> para el cuidado personal permite satisfacer las principales demandas del mercado de forma &aacute;gil y segura, reduciendo las preocupaciones y tiempo por un nuevo desarrollo. &iexcl;En solo 2 pasos, diluci&oacute;n de la base y personalizaci&oacute;n del producto, tendr&aacute; una formulaci&oacute;n comparable con las principales marcas del mercado!</p>
A8: approved | B8: 30677301 | C8: =B8*1 -> 30677301 | D8: Jordapon® SCI Powder | E8: Jordapon® SCI Powder | F8: <p>Isetionato de coco-sodio basado en &aacute;cidos grasos de aceite de coco natural renovable</p> | G8: <p>Isetionato de coco-sodio basado en &aacute;cidos grasos de aceite de coco natural renovable</p>
A9: approved | B9: 30756058 | C9: =B9*1 -> 30756058 | D9: SOLUPRAT™ Ropa Enzimatico | E9: SOLUPRAT™ Ropa Enzimatico | F9: <p>SOLUPRAT&trade; Ropa Enzimatico&nbsp;es la soluci&oacute;n completa de BASF para detergentes l&iacute;quidos que deja el blanco m&aacute;s blanco y colores m&aacute;s brillantes. Una formulaci&oacute;n concentrada, libre de &aacute;cido sulf&oacute;nico,&nbsp; que reduce complejidad y tiempos de proceso en apenas 2 pasos, diluci&oacute;n y personalizaci&oacute;n. SOLUPRAT&trade;, soluci&oacute;n y practicidad para su empresa. Enfocado en eliminar manchas dif&iacute;ciles.</p> | G9: <p>SOLUPRAT&trade; Ropa Enzimatico&nbsp;es la soluci&oacute;n completa de BASF para detergentes l&iacute;quidos que deja el blanco m&aacute;s blanco y colores m&aacute;s brillantes. Una formulaci&oacute;n concentrada, libre de &aacute;cido sulf&oacute;nico,&nbsp; que reduce complejidad y tiempos de proceso en apenas 2 pasos, diluci&oacute;n y personalizaci&oacute;n. SOLUPRAT&trade;, soluci&oacute;n y practicidad para su empresa. Enfocado en eliminar manchas dif&iacute;ciles.</p>
A10: approved | B10: 30061790 | C10: =B10*1 -> 30061790 | D10: PROPYLENGLYCOL USP | E10: PROPYLENGLYCOL USP
A11: unapproved | B11: 30533610 | C11: =B11*1 -> 30533610 | D11: LITCHIDERM LS 9704 | E11: LITCHIDERM LS 9704
A12: approved | B12: 30527783 | C12: =B12*1 -> 30527783 | D12: Emulgade® CM | E12: Emulgade® CM | F12: <p>Emulgade&reg; CM es una emulsi&oacute;n l&iacute;quida concentrada para la preparaci&oacute;n de cremas y lociones, especialmente indicada para toallitas h&uacute;medas.</p> | G12: <p>Emulgade&reg; CM es una emulsi&oacute;n l&iacute;quida concentrada para la preparaci&oacute;n de cremas y lociones, especialmente indicada para toallitas h&uacute;medas.</p>
A13: unapproved | B13: 30043787 | C13: =B13*1 -> 30043787 | D13: POLIGEN WE | F13: POLIGEN WE
A14: approved | B14: 30035116 | C14: =B14*1 -> 30035116 | D14: Uvinul MS 40 | E14: Uvinul MS 40 | F14: <p>Filtro UV de amplio espectro adecuado para aplicaciones de cuidado de la piel, como productos de cuidado facial antienvejecimiento y protectores solares.</p> | G14: <p>Filtro UV de amplio espectro adecuado para aplicaciones de cuidado de la piel, como productos de cuidado facial antienvejecimiento y protectores solares.</p>
A15: approved | B15: 30055079 | C15: =B15*1 -> 30055079 | D15: Uvinul® MC 80 | E15: Uvinul® MC 80
A16: approved | B16: 30658227 | C16: =B16*1 -> 30658227 | D16: Collalift® 18 BC 10014 | E16: Collalift® 18 BC 10014 | F16: <p>Extracto de c&aacute;scara de Khaya senegalensis</p> | G16: <p>Extracto de c&aacute;scara de Khaya senegalensis</p>
A17: unapproved | B17: 30482059 | C17: =B17*1 -> 30482059 | D17: Salcare® SC 91 | E17: Salcare® SC 91 | G17: <p>Polimero com efeito espessante e estabilizante. F&aacute;cil de usar!</p>
A18: approved | B18: 30531250 | C18: =B18*1 -> 30531250 | D18: Cosmedia® SP | E18: Cosmedia® SP | G18: <p>Pol&iacute;mero de sensorial elegante y lujoso em aplicaciones de piel&nbsp;</p>
A19: unapproved | B19: 30531563 | C19: =B19*1 -> 30531563 | D19: DEHYQUART AU | E19: DEHYQUART AU | F19: DEHYQUART AU | G19: DEHYQUART AU
A20: unapproved | B20: 30531383 | C20: =B20*1 -> 30531383 | D20: PLANTAPON LGC SORB | E20: PLANTAPON LGC SORB
A21: approved | B21: 30438349 | C21: =B21*1 -> 30438349 | D21: A00073 SLIM-EXCESS | E21: A00073 SLIM-EXCESS | F21: <p>Hidrolizado de algas rojas</p> | G21: <p>Hidrolizado de algas rojas</p>
A22: approved | B22: 30724608 | C22: =B22*1 -> 30724608 | D22: SOLUPRAT™ Superficies | E22: SOLUPRAT™ Superficies | F22: <p>SOLUPRAT&trade; Superficies es la soluci&oacute;n completa de BASF para todo tipo de limpiadores de superficie que elimina manchas de agua y acelera el secado de superficies. Una formulaci&oacute;n concentrada que reduce complejidad y tiempos de proceso en apenas 2 pasos, diluci&oacute;n y personalizaci&oacute;n. SOLUPRAT&trade;, soluci&oacute;n y practicidad para su empresa.</p> | G22: <p>SOLUPRAT&trade; Superficies es la soluci&oacute;n completa de BASF para todo tipo de limpiadores de superficie que elimina manchas de agua y acelera el secado de superficies. Una formulaci&oacute;n concentrada que reduce complejidad y tiempos de proceso en apenas 2 pasos, diluci&oacute;n y personalizaci&oacute;n. SOLUPRAT&trade;, soluci&oacute;n y practicidad para su empresa.</p>
A23: unapproved | B23: 30528535 | C23: =B23*1 -> 30528535 | D23: Dehyquart® EC-A | E23: Dehyquart® EC-A
A24: unapproved | B24: 30528320 | C24: =B24*1 -> 30528320 | D24: LANETTE 1665 | E24: LANETTE 1665
A25: unapproved | B25: 30531645 | C25: =B25*1 -> 30531645 | D25: HISPAGEL OIL-LV | E25: HISPAGEL OIL-LV | G25: <p>Pol&iacute;mero modificador de reologia e sensorial.</p>
A26: unapproved | B26: 30527880 | C26: =B26*1 -> 30527880 | D26: Cetiol® OE | E26: Cetiol® OE | G26: <p>Emoliente de sensorial seco</p>
A27: approved | B27: 30222192 | C27: =B27*1 -> 30222192 | D27: Sodium Ascorbyl Phosphate | E27: Sodium Ascorbyl Phosphate | F27: <p>Sodium Ascorbyl Phosphate es un ingrediente activo adecuado para una variedad de preparaciones para el cuidado de la piel, para formulaciones de protecci&oacute;n solar, productos antiarrugas, lociones corporales, cremas de d&iacute;a y de noche.</p> | G27: <p>Sodium Ascorbyl Phosphate es un ingrediente activo adecuado para una variedad de preparaciones para el cuidado de la piel, para formulaciones de protecci&oacute;n solar, productos antiarrugas, lociones corporales, cremas de d&iacute;a y de noche.</p>
A28: approved | B28: 30528573 | C28: =B28*1 -> 30528573 | D28: DEHYQUART C 4046 | E28: DEHYQUART C 4046
A29: approved | B29: 30660124 | C29: =B29*1 -> 30660124 | D29: Eumulgin B1 | E29: Eumulgin B1
A30: approved | B30: 30704818 | C30: =B30*1 -> 30704818 | D30: Bix Activ® BC10050 | E30: Bix Activ® BC10050 | F30: <p>Extracto natural de la semilla de Urucum, sin conservantes</p> | G30: <p>Extracto natural de la semilla de Urucum, sin conservantes</p>
A31: approved | B31: 30530562 | C31: =B31*1 -> 30530562 | D31: Eumulgin® LM 23 | E31: Eumulgin® LM 23 | F31: <p>Eumulgin&reg; LM 23 es un emulsionante no i&oacute;nico para la fabricaci&oacute;n de diversas emulsiones O / W</p> | G31: <p>Eumulgin&reg; LM 23 es un emulsionante no i&oacute;nico para la fabricaci&oacute;n de diversas emulsiones O / W</p>
A32: approved | B32: 30035086 | C32: =B32*1 -> 30035086 | D32: Luviskol K30 PLV. | E32: Luviskol K30 PLV.
A33: approved | B33: 30538100 | C33: =B33*1 -> 30538100 | D33: Dehyquart® S18 NA | E33: Dehyquart® S18 NA
A34: approved | B34: 30528587 | C34: =B34*1 -> 30528587 | D34: Glucopon® 225 DK | E34: Glucopon® 225 DK | F34: <p>Alquilpoligluc&oacute;sido de origen natural al 70%. De alto poder de detergencia y estabilidad alcalina superior. En combinaci&oacute;n con otros surfactantes primarios como Texapon N 70 y Maranil DB 50 se sinergiza potencializando el desempe&ntilde;o y disminuyendo la irritabilidad. Protege las superficies y es compatible con todo tipo de ingredientes como otros tensoactivos, enzimas, pol&iacute;meros entre otros.</p> | G34: <p>Alquilpoligluc&oacute;sido de origen natural al 70%. De alto poder de detergencia y estabilidad alcalina superior. En combinaci&oacute;n con otros surfactantes primarios como Texapon N 70 y Maranil DB 50 se sinergiza potencializando el desempe&ntilde;o y disminuyendo la irritabilidad. Protege las superficies y es compatible con todo tipo de ingredientes como otros tensoactivos, enzimas, pol&iacute;meros entre otros.</p>
A35: unapproved | B35: 30535838 | C35: =B35*1 -> 30535838 | D35: Cosmedia® Ultragel 300 | E35: Cosmedia® Ultragel 300 | G35: <p>Pol&iacute;mero cati&ocirc;nico excelente para condicionamento</p>
A36: unapproved | B36: 30537412 | C36: =B36*1 -> 30537412 | D36: EMULGADE BB | E36: EMULGADE BB
A37: approved | B37: 30528377 | C37: =B37*1 -> 30528377 | D37: Lamesoft® PO 65 | E37: Lamesoft® PO 65
A38: unapproved | B38: 30528569 | C38: =B38*1 -> 30528569 | D38: DEHYDOL® LS 3 DEO N | E38: DEHYDOL® LS 3 DEO N
A39: approved | B39: 30527807 | C39: =B39*1 -> 30527807 | D39: Lanette® W | E39: Lanette® W | F39: <p>Lanette&reg; W es una crema base autoemulsionante ani&oacute;nica para emulsiones O/ W cosm&eacute;ticas para el cuidado de la piel y el cabello</p> | G39: <p>Lanette&reg; W es una crema base autoemulsionante ani&oacute;nica para emulsiones O/ W cosm&eacute;ticas para el cuidado de la piel y el cabello</p>
A40: approved | B40: 30516313 | C40: =B40*1 -> 30516313 | D40: Sokalan® HP 20 | E40: Sokalan® HP 20 | F40: <p>Es un pol&iacute;mero multifuncional cati&oacute;nico para la industria de detergentes y limpiadores. Ayuda a eliminar las manchas dif&iacute;ciles y ofrece beneficios de limpieza, brillo y cuidado del color. Este producto se puede formular f&aacute;cilmente en monodosis l&iacute;quidas transparentes altamente concentradas que brindan soluciones vers&aacute;tiles para productos innovadores.</p> | G40: <p>Es un pol&iacute;mero multifuncional cati&oacute;nico para la industria de detergentes y limpiadores. Ayuda a eliminar las manchas dif&iacute;ciles y ofrece beneficios de limpieza, brillo y cuidado del color. Este producto se puede formular f&aacute;cilmente en monodosis l&iacute;quidas transparentes altamente concentradas que brindan soluciones vers&aacute;tiles para productos innovadores.</p>
...

Sheet Classification_Attributes
A1: classificationClass | B1: Identifier | C1: Name | D1: Feature EN | E1: Feature PT | F1: Feature Descriptor Type | G1: Value EN | H1: Value PT
A2: EL:DcxsaClassification:1.0 | B2: EL | C2: Emollients classification | D2: Appearance | E2: Aspecto | F2: Value list | G2: Liquid | H2: Líquido
A3: EL:DcxsaClassification:1.0 | B3: EL | C3: Emollients classification | D3: Application | E3: Aplicação | F3: Value list | G3: After Sun | H3: Pós-Sol
A4: EL:DcxsaClassification:1.0 | B4: EL | C4: Emollients classification | D4: Application | E4: Aplicação | F4: Value list | G4: Antiperspirants & Deodorants | H4: Antitranspirantes/Desodorantes
A5: EL:DcxsaClassification:1.0 | B5: EL | C5: Emollients classification | D5: Application | E5: Aplicação | F5: Value list | G5: Baby Care and Cleansing | H5: Bebês - Limpeza e Cuidados
A6: EL:DcxsaClassification:1.0 | B6: EL | C6: Emollients classification | D6: Application | E6: Aplicação | F6: Value list | G6: Body Care | H6: Corporal
A7: EL:DcxsaClassification:1.0 | B7: EL | C7: Emollients classification | D7: Application | E7: Aplicação | F7: Value list | G7: Conditioning | H7: Condicionador
A8: EL:DcxsaClassification:1.0 | B8: EL | C8: Emollients classification | D8: Application | E8: Aplicação | F8: Value list | G8: Face Care | H8: Facial
A9: EL:DcxsaClassification:1.0 | B9: EL | C9: Emollients classification | D9: Application | E9: Aplicação | F9: Value list | G9: Face Cleansing | H9: Limpeza Facial
A10: EL:DcxsaClassification:1.0 | B10: EL | C10: Emollients classification | D10: Application | E10: Aplicação | F10: Value list | G10: Hair | H10: Cabelo
A11: EL:DcxsaClassification:1.0 | B11: EL | C11: Emollients classification | D11: Application | E11: Aplicação | F11: Value list | G11: Hair Coloring | H11: Cabelo (Coloração)
A12: EL:DcxsaClassification:1.0 | B12: EL | C12: Emollients classification | D12: Application | E12: Aplicação | F12: Value list | G12: Liquid Soap | H12: Sabonete Líquido
... A230: UV:DcxsaClassification:1.0 | B230: UV | C230: UV-Filter classification | D230: Use level | E230: Dosagem de uso recomendada (%) | F230: Value list | G230: Max. 5 | H230: Max. 5

Sheet DCXSA_Products
A1: Article Number*^ | B1: SBU | C1: Identifier[en] | D1: INCI Name[en] To be checked whether BASIS attribute or not | E1: Description[en] | F1: Description[pt] | G1: Description[es] | H1: Benefícios ao consumidor | I1: Supercategories+ IGNORE | J1: Has Sample Product | K1: Approval IGNORE | L1: Product Type IGNORE | M1: classificationClass >> Function (NOT FINAL) --> COLUMN D in categories sheet | N1: Active matter Grey means they do not have this attribute | O1: Appearance (NOT FINAL) | P1: Market Segment (NOT FINAL) | Q1: Application (NOT FINAL) | R1: Aqueous System Efficiency | S1: Chemistry | T1: Commercial name --> IGNORE | U1: Contain EO/PO | V1: Contain sulfate? | W1: Dose of use | X1: Emulsifier capacity | Y1: Emulsifier type | Z1: Emulsifying Capacity | AA1: Filter Absorption | AB1: Filter Type | AC1: Foaming performance | AD1: Molecular weight | AE1: Need to be solubilized | AF1: Origin | AG1: Packaging | AH1: pH Range | AI1: Phase in application | AJ1: Polarity | AK1: Process | AL1: Refractive index | AM1: Spreading rate (mm2/min) | AN1: Surfactant System Efficiency | AO1: Technical name IGNORE | AP1: Type | AQ1: Use level | AR1: Vegetable Index | AS1: Viscosity capacity | AT1: Water/Ethanol System Efficiency | AU1: OBS
A2: 30527825 | B2: EMB | C2: Cetiol® B | D2: Dibutyl Adipate | E2: Fast spreading emollient especially suitable for suncare formulations due to excellent solubilizing capacities for crystalline UV-filters. | F2: Emoliente de alta espalhabilidade, ideal para formulações de proteção solar devido à excelente capacidade de solubilização de filtros UV cristalinos. | G2: Emoliente de alta espalhabilidade, ideal para fórmulas de protección solar devido a una excelente capacidad de solubilización de filtros UV cristalinos. | H2: Excelente sensorial / Excellent sensory | I2: ART:dcxsaProductCatalog:Online,MS:dcxsaProductCatalog:Online,PF:dcxsaProductCatalog:Online,AP:dcxsaProductCatalog:Online,PG:dcxsaProductCatalog:Online,FU:dcxsaProductCatalog:Online,MS_810:dcxsaProductCatalog:Online,MS_500:dcxsaProductCatalog:Online,AP_1700:dcxsaProductCatalog:Online,AP_300:dcxsaProductCatalog:Online,AP_1500:dcxsaProductCatalog:Online,AP_600:dcxsaProductCatalog:Online,AP_1800:dcxsaProductCatalog:Online,AP_800:dcxsaProductCatalog:Online,AP_400:dcxsaProductCatalog:Online,AP_1000:dcxsaProductCatalog:Online,PG_900:dcxsaProductCatalog:Online,FU_1100:dcxsaProductCatalog:Online,Emollients:dcxsaProductCatalog:Online,Emollients:dcxsaProductCatalog:Online,EL:DcxsaClassification:1.0,PG_4200:dcxsaProductCatalog:Online,AP_500:dcxsaProductCatalog:Online,FU_5200:dcxsaProductCatalog:Online | K2: approved | L2: PRODUCT | M2: Emoliente | O2: Liquid | P2: Sun Care; Skin Rinse-off; Body Care; Face Care | Q2: After Sun; Baby Care and Cleansing; Body Care; Face Care; Face Cleansing; Make-up; Self Tanning; Sun Protection | S2: Ester | T2: Cetiol® B | AG2: Tambor de aço 175kg | AJ2: High | AK2: Cold Process | AL2: 1435 | AM2: 1000 | AQ2: 2 - 10 | AR2: 0.5 | AU2: Cadastrado
A3: 30527869 | B3: EMB | C3: Cetiol® CC | D3: Dicaprylyl Carbonate | E3: Fast spreading emollient for all cosmetic applications with a velvet, dry skin feel, especially suitable for suncare formulations due to outstanding solubilizing capacities for crystalline UV-filters. | F3: Emoliente de alta espalhabilidade para todas as aplicações cosméticas, proporciona um toque aveludado e sem pegajosidade, ideal para formulações de proteção solar devido às excelentes capacidades de solubilização de filtros UV cristalinos. | G3: Emoliente para todas las aplicaciones cosméticas, brinda una sensación aterciopelada y no pegajosa, ideal para formulaciones de protección solar debido a las excelentes capacidades de solubilización de los filtros UV cristalinos. | H3: Excelente sensorial / Excellent sensory | I3: ART:dcxsaProductCatalog:Online,MS:dcxsaProductCatalog:Online,PF:dcxsaProductCatalog:Online,AP:dcxsaProductCatalog:Online,PG:dcxsaProductCatalog:Online,FU:dcxsaProductCatalog:Online,MS_810:dcxsaProductCatalog:Online,MS_100:dcxsaProductCatalog:Online,MS_500:dcxsaProductCatalog:Online,MS_310:dcxsaProductCatalog:Online,MS_700:dcxsaProductCatalog:Online,AP_1700:dcxsaProductCatalog:Online,AP_100:dcxsaProductCatalog:Online,AP_300:dcxsaProductCatalog:Online,AP_1500:dcxsaProductCatalog:Online,AP_600:dcxsaProductCatalog:Online,AP_700:dcxsaProductCatalog:Online,AP_1800:dcxsaProductCatalog:Online,AP_800:dcxsaProductCatalog:Online,AP_1600:dcxsaProductCatalog:Online,AP_400:dcxsaProductCatalog:Online,AP_1000:dcxsaProductCatalog:Online,PG_900:dcxsaProductCatalog:Online,FU_1100:dcxsaProductCatalog:Online,Emollients:dcxsaProductCatalog:Online,Emollients:dcxsaProductCatalog:Online,EL:DcxsaClassification:1.0,PG_4200:dcxsaProductCatalog:Online,AP_500:dcxsaProductCatalog:Online,FU_5200:dcxsaProductCatalog:Online | K3: approved | L3: PRODUCT | M3: Emoliente | O3: Liquid | P3: Sun Care; AP/Deo; Skin Rinse-off; Body Care; Face Care; Hair Conditioning/Shampoo; Others | Q3: After Sun; Antiperspirants & Deodorants; Baby Care and Cleansing; Body Care; Conditioning; Face Care; Face Cleansing; Make-up; Personal Care Wipes; Self Tanning; Sun Protection | S3: Ester | T3: Cetiol® CC | AG3: Bombona de aço ou plástica 10kg ou Tambor de aço 175kg | AJ3: Medium | AK3: Cold Process | AL3: 1436 | AM3: 1600 | AQ3: 2 - 15 | AR3: 2 | AU3: Cadastrado
A4: 30527880 | B4: EMB | C4: Cetiol® OE | D4: Dicapryll Ether | E4: Fast spreading emollient with a dry skin feel for all cosmetic applications. Due to its ether structure it is hydrolysis stable and therefore particularly suitable for deo/antiperspirant and hair remover formulations. | F4: Emoliente de alta espalhabilidade, com um sensorial final sem pegajosidade, ideal para todas as aplicações cosméticas. Devido à sua estrutura de éter, é estável à hidrólise e, portanto, particularmente adequado para formulações deo/antitranspirantes e produtos depilatórios. | G4: Emoliente de alta extensión, con un sensorial final sin pegajosidad, ideal para todas las aplicaciones cosméticas. Debido a su estructura de éter, es estable a la hidrólisis y, por lo tanto, particularmente adecuado para formulaciones deo / antitranspirantes y productos depilatorios. | H4: Excelente sensorial / Excellent sensory | I4: ART:dcxsaProductCatalog:Online,MS:dcxsaProductCatalog:Online,PF:dcxsaProductCatalog:Online,AP:dcxsaProductCatalog:Online,PG:dcxsaProductCatalog:Online,FU:dcxsaProductCatalog:Online,MS_810:dcxsaProductCatalog:Online,MS_100:dcxsaProductCatalog:Online,MS_500:dcxsaProductCatalog:Online,MS_310:dcxsaProductCatalog:Online,MS_200:dcxsaProductCatalog:Online,MS_700:dcxsaProductCatalog:Online,AP_1700:dcxsaProductCatalog:Online,AP_100:dcxsaProductCatalog:Online,AP_300:dcxsaProductCatalog:Online,AP_1500:dcxsaProductCatalog:Online,AP_600:dcxsaProductCatalog:Online,AP_700:dcxsaProductCatalog:Online,AP_1800:dcxsaProductCatalog:Online,AP_800:dcxsaProductCatalog:Online,AP_500:dcxsaProductCatalog:Online,AP_1600:dcxsaProductCatalog:Online,AP_400:dcxsaProductCatalog:Online,AP_1000:dcxsaProductCatalog:Online,PG_900:dcxsaProductCatalog:Online,FU_1100:dcxsaProductCatalog:Online,Emollients:dcxsaProductCatalog:Online,Emollients:dcxsaProductCatalog:Online,Emollients:dcxsaProductCatalog:Online,EL:DcxsaClassification:1.0,PG_4200:dcxsaProductCatalog:Online,FU_5200:dcxsaProductCatalog:Online | K4: approved | L4: PRODUCT | M4: Emoliente | O4: Liquid | P4: Sun Care; AP/Deo; Skin Rinse-off; Body Care; Face Care; Hair Coloring; Hair Conditioning/Shampoo | Q4: After Sun; Antiperspirants & Deodorants; Baby Care and Cleansing; Body Care; Conditioning; Face Care; Face Cleansing; Hair Coloring; Make-up; Personal Care Wipes; Self Tanning; Sun Protection | S4: Ether ( future) | T4: Cetiol® OE | AG4: Bombona plástica 10kg ou Tambor de aço 165kg | AJ4: Low | AK4: Cold Process | AL4: 1433 | AM4: 1600 | AQ4: 2 - 15 | AR4: 3 | AU4: Cadastrado
A5: 30527906 | B5: EMB | C5: Myritol® 318 | D5: Caprylic/ Capric Triglyceride | E5: Medium spreading emollient suitable for all kind of cosmetic skin care applications. | F5: Emoliente de média espalhabilidade adequado para todos os tipos de aplicações cosméticas de cuidados com a pele. | G5: =SUBSTITUTE(SUBSTITUTE(SUBSTITUTE(SUBSTITUTE(SUBSTITUTE(SUBSTITUTE(SUBSTITUTE(SUBSTITUTE(SUBSTITUTE(SUBSTITUTE(SUBSTITUTE(SUBSTITUTE(SUBSTITUTE(SUBSTITUTE(SUBSTITUTE(SUBSTITUTE(SUBSTITUTE(SUBSTITUTE(SUBSTITUTE(SUBSTITUTE(SUBSTITUTE(SUBSTITUTE(SUBSTITUTE(VLOOKUP(A5,Sheet1!$C:$G,5,0),'De para simbolos'!$A$2,'De para simbolos'!$B$2),'De para simbolos'!$A$3,'De para simbolos'!$B$3),'De para simbolos'!$A$4,'De para simbolos'!$B$4),'De para simbolos'!$A$5,'De para simbolos'!$B$5),'De para simbolos'!$A$6,'De para simbolos'!$B$6),'De para simbolos'!$A$7,'De para simbolos'!$B$7),'De para simbolos'!$A$8,'De para simbolos'!$B$8),'De para simbolos'!$A$9,'De para simbolos'!$B$9),'De para simbolos'!$A$10,'De para simbolos'!$B$10),'De para simbolos'!$A$11,'De para simbolos'!$B$11),'De para simbolos'!$A$12,'De para simbolos'!$B$12),'De para simbolos'!$A$13,'De para simbolos'!$B$13),'De para simbolos'!$A$14,'De para simbolos'!$B$14),'De para simbolos'!$A$15,'De para simbolos'!$B$15),'De para simbolos'!$A$16,'De para simbolos'!$B$16),'De para simbolos'!$A$17,'De para simbolos'!$B$17),'De para simbolos'!$A$18,'De para simbolos'!$B$18),'De para simbolos'!$A$19,'De para simbolos'!$B$19),'De para simbolos'!$A$20,'De para simbolos'!$B$20),'De para simbolos'!$A$21,'De para simbolos'!$B$21),'De para simbolos'!$A$22,'De para simbolos'!$B$22),'De para simbolos'!$A$23,'De para simbolos'!$B$23),'De para simbolos'!$A$24,'De para simbolos'!$B$24) -> Myritol® 318 es un emoliente de dispersión media adecuado para todo tipo de aplicaciones cosméticas para el cuidado de la piel. | H5: Excelente sensorial / Excellent sensory | I5: MS_310:dcxsaProductCatalog:Online,MS:dcxsaProductCatalog:Online,ART:dcxsaProductCatalog:Online,PF:dcxsaProductCatalog:Online,MS_700:dcxsaProductCatalog:Online,MS_500:dcxsaProductCatalog:Online,MS_810:dcxsaProductCatalog:Online,AP_300:dcxsaProductCatalog:Online,AP_400:dcxsaProductCatalog:Online,AP_600:dcxsaProductCatalog:Online,AP:dcxsaProductCatalog:Online,AP_800:dcxsaProductCatalog:Online,AP_1000:dcxsaProductCatalog:Online,AP_1500:dcxsaProductCatalog:Online,AP_1600:dcxsaProductCatalog:Online,AP_1700:dcxsaProductCatalog:Online,AP_1800:dcxsaProductCatalog:Online,PG_900:dcxsaProductCatalog:Online,PG:dcxsaProductCatalog:Online,Emollients:dcxsaProductCatalog:Online,FU_1100:dcxsaProductCatalog:Online,FU:dcxsaProductCatalog:Online,Emollients:dcxsaProductCatalog:Online,EL:DcxsaClassification:1.0 | J5: true | K5: unapproved | L5: PRODUCT | M5: Emoliente | O5: Liquid | P5: Sun Care; AP/Deo; Skin Rinse-off; Body Care; Face Care; Others | Q5: After Sun; Baby Care and Cleansing; Body Care; Face Care; Face Cleansing; Make-up; Personal Care Wipes; Self Tanning; Sun Protection | S5: Triglyceride | T5: Myritol® 318 | AG5: Tambor de aço 190kg | AJ5: High | AK5: Cold Process | AL5: 1449 | AM5: 550 | AQ5: 2 - 15 | AR5: 3 | AU5: Cadastrado
A6: 30527925 | B6: EMB | C6: Cetiol® 868 | D6: Ethylhexyl Stearate | E6: Medium spreading emollient for all kind of cosmetic applications. | F6: Emoliente de média espalhabilidade para todos os tipos de aplicações cosméticas. | G6: Emoliente de esparcibilidad media para todo tipo de aplicaciones cosméticas. | H6: Excelente sensorial / Excellent sensory | I6: MS_700:dcxsaProductCatalog:Online,AP_1700:dcxsaProductCatalog:Online,MS_310:dcxsaProductCatalog:Online,PG_900:dcxsaProductCatalog:Online,MS_500:dcxsaProductCatalog:Online,AP_300:dcxsaProductCatalog:Online,AP_700:dcxsaProductCatalog:Online,AP_1800:dcxsaProductCatalog:Online,AP_400:dcxsaProductCatalog:Online,AP_1000:dcxsaProductCatalog:Online,FU_1100:dcxsaProductCatalog:Online,PF:dcxsaProductCatalog:Online,FU:dcxsaProductCatalog:Online,MS:dcxsaProductCatalog:Online,ART:dcxsaProductCatalog:Online,PG:dcxsaProductCatalog:Online,AP:dcxsaProductCatalog:Online,MS_810:dcxsaProductCatalog:Online,Emollients:dcxsaProductCatalog:Online,EL:DcxsaClassification:1.0 | K6: approved | L6: PRODUCT | M6: Emoliente | O6: Liquid | P6: Sun Care; Skin Rinse-off; Body Care; Face Care; Others | Q6: After Sun; Baby Care and Cleansing; Body Care; Face Care; Face Cleansing; Make-up; Personal Care Wipes; Self Tanning; Sun Protection | S6: Ester | T6: Cetiol® 868 | AG6: Tambor de aço 175kg | AJ6: Medium | AK6: Cold Process | AL6: 1448 | AM6: 800 | AQ6: 2 - 15 | AR6: 1 | AU6: Informacão não localizada no MIP, para colocar na Categorization na aba 3* can be used for ( Personal Care Wipes e shower/bath )
A7: 30527973 | B7: EMB | C7: Isopropyl Myristate | D7: Isopropyl Myristate | E7: Fast spreading emollient suitable for all cosmetic applications. | F7: Emoliente de alta espalhabilidade adequado para todas as aplicações cosméticas. | G7: Emoliente de esparcibilidad media para todo tipo de aplicaciones cosméticas. | H7: Excelente sensorial / Excellent sensory | I7: MS_700:dcxsaProductCatalog:Online,AP_1700:dcxsaProductCatalog:Online,MS_310:dcxsaProductCatalog:Online,AP_1500:dcxsaProductCatalog:Online,PG_900:dcxsaProductCatalog:Online,MS_500:dcxsaProductCatalog:Online,AP_300:dcxsaProductCatalog:Online,AP_700:dcxsaProductCatalog:Online,AP_1800:dcxsaProductCatalog:Online,AP_400:dcxsaProductCatalog:Online,AP_1000:dcxsaProductCatalog:Online,FU_1100:dcxsaProductCatalog:Online,Emollients:dcxsaProductCatalog:Online,PF:dcxsaProductCatalog:Online,FU:dcxsaProductCatalog:Online,MS:dcxsaProductCatalog:Online,ART:dcxsaProductCatalog:Online,AP:dcxsaProductCatalog:Online,PG:dcxsaProductCatalog:Online,MS_810:dcxsaProductCatalog:Online,EL:DcxsaClassification:1.0 | K7: approved | L7: PRODUCT | M7: Emoliente | O7: Liquid | P7: Sun Care; AP/Deo; Skin Rinse-off; Body Care; Face Care; Hair Conditioning/Shampoo; Others | Q7: After Sun; Antiperspirants & Deodorants; Baby Care and Cleansing; Body Care; Face Care; Face Cleansing; Make-up; Personal Care Wipes; Self Tanning; Sun Protection | S7: Ester | T7: Isopropyl Myristate | AG7: Tambor de aço 175kg | AJ7: Medium | AK7: Cold Process | AL7: 1440 | AM7: 1200 | AQ7: 2 - 15 | AR7: 2 | AU7: Cadastrado
A8: 30528395 | B8: EMB | C8: Cetiol® HE | D8: PEG-7 Glyceryl Cocoate | E8: Hydrophilic oil preferably suited as a lipid layer enhancer in surfactant cleansing preparations and as a solubility promoter for essential oils and active agents. | F8: Óleo hidrofílico intensificador da camada lipídica em formulações de limpeza, também promove a solubilidade de óleos essenciais e ativos. | G8: Aceite hidrofílico que realza la capa lipídica en formulaciones de limpieza, también promueve la solubilidad de los aceites esenciales y activos. | H8: Excelente sensorial / Excellent sensory | I8: ART:dcxsaProductCatalog:Online,MS:dcxsaProductCatalog:Online,PF:dcxsaProductCatalog:Online,AP:dcxsaProductCatalog:Online,PG:dcxsaProductCatalog:Online,FU:dcxsaProductCatalog:Online,MS_500:dcxsaProductCatalog:Online,MS_700:dcxsaProductCatalog:Online,MS_310:dcxsaProductCatalog:Online,MS_410:dcxsaProductCatalog:Online,AP_300:dcxsaProductCatalog:Online,AP_2300:dcxsaProductCatalog:Online,AP_800:dcxsaProductCatalog:Online,AP_1100:dcxsaProductCatalog:Online,AP_1600:dcxsaProductCatalog:Online,AP_1200:dcxsaProductCatalog:Online,AP_200:dcxsaProductCatalog:Online,AP_1300:dcxsaProductCatalog:Online,PG_2700:dcxsaProductCatalog:Online,PG_300:dcxsaProductCatalog:Online,FU_3300:dcxsaProductCatalog:Online,FU_3400:dcxsaProductCatalog:Online,EL:DcxsaClassification:1.0 | K8: approved | L8: PRODUCT | M8: Emoliente | O8: Liquid | P8: Skin Rinse-off; Face Care; Others; Hair Conditioning/Shampoo; Hair Styling | Q8: Baby Care and Cleansing; Face Cleansing; Liquid Soap; Personal Care Wipes; Shampoo; Shower/Bath Products | S8: Ester | T8: Cetiol® HE | AG8: Bombona plástica 25kg ou Tambor plástico 25kg ou Tambor de aço 200kg | AK8: Cold Process | AM8: n/a | AQ8: 0,5 - 1,0 | AR8: 1 | AU8: Informacão não localizada no MIP, para colocar na Categorization na aba 3* can be used for ( Personal Care Wipes e shower/bath )
A9: 30528720 | B9: EMB | C9: ISOPROPYL PALMITATE | D9: Isopropyl Palmitate | E9: Fast spreading emollient suitable for all cosmetic applications. | F9: Emoliente de alta espalhabilidade adequado para todas as aplicações cosméticas. | G9: Emoliente de esparcibilidad media para todo tipo de aplicaciones cosméticas. | H9: Excelente sensorial / Excellent sensory | I9: ART:dcxsaProductCatalog:Online,MS:dcxsaProductCatalog:Online,PF:dcxsaProductCatalog:Online,AP:dcxsaProductCatalog:Online,PG:dcxsaProductCatalog:Online,FU:dcxsaProductCatalog:Online,MS_810:dcxsaProductCatalog:Online,MS_100:dcxsaProductCatalog:Online,MS_500:dcxsaProductCatalog:Online,MS_700:dcxsaProductCatalog:Online,AP_1700:dcxsaProductCatalog:Online,AP_100:dcxsaProductCatalog:Online,AP_300:dcxsaProductCatalog:Online,AP_1500:dcxsaProductCatalog:Online,AP_600:dcxsaProductCatalog:Online,AP_1800:dcxsaProductCatalog:Online,AP_800:dcxsaProductCatalog:Online,AP_1600:dcxsaProductCatalog:Online,AP_400:dcxsaProductCatalog:Online,AP_1000:dcxsaProductCatalog:Online,PG_900:dcxsaProductCatalog:Online,FU_1100:dcxsaProductCatalog:Online,Emollients:dcxsaProductCatalog:Online,Emollients:dcxsaProductCatalog:Online,EL:DcxsaClassification:1.0 | K9: approved | L9: PRODUCT | M9: Emoliente | O9: Liquid | P9: Sun Care; AP/Deo; Skin Rinse-off; Body Care; Face Care; Others | Q9: After Sun; Antiperspirants & Deodorants; Baby Care and Cleansing; Body Care; Face Care; Face Cleansing; Make-up; Personal Care Wipes; Self Tanning; Sun Protection | S9: Ester | T9: Isopropyl Palmitate | AG9: Tambor de aço 175kg | AJ9: Medium | AK9: Cold Process | AL9: 1439 | AM9: 1000 | AQ9: 2 - 15 | AR9: 2 | AU9: Cadastrado
A10: 30531263 | B10: EMB | C10: Cetiol® AB | D10: C 12-15 Alkyl Benzoate | E10: Medium spreading emollient with good solubilizing properties for crystalline UV-filters. | F10: Emoliente de média espalhabilidade com boas propriedades solubilizantes para filtros UV cristalinos. | G10: =SUBSTITUTE(SUBSTITUTE(SUBSTITUTE(SUBSTITUTE(SUBSTITUTE(SUBSTITUTE(SUBSTITUTE(SUBSTITUTE(SUBSTITUTE(SUBSTITUTE(SUBSTITUTE(SUBSTITUTE(SUBSTITUTE(SUBSTITUTE(SUBSTITUTE(SUBSTITUTE(SUBSTITUTE(SUBSTITUTE(SUBSTITUTE(SUBSTITUTE(SUBSTITUTE(SUBSTITUTE(SUBSTITUTE(VLOOKUP(A10,Sheet1!$C:$G,5,0),'De para simbolos'!$A$2,'De para simbolos'!$B$2),'De para simbolos'!$A$3,'De para simbolos'!$B$3),'De para simbolos'!$A$4,'De para simbolos'!$B$4),'De para simbolos'!$A$5,'De para simbolos'!$B$5),'De para simbolos'!$A$6,'De para simbolos'!$B$6),'De para simbolos'!$A$7,'De para simbolos'!$B$7),'De para simbolos'!$A$8,'De para simbolos'!$B$8),'De para simbolos'!$A$9,'De para simbolos'!$B$9),'De para simbolos'!$A$10,'De para simbolos'!$B$10),'De para simbolos'!$A$11,'De para simbolos'!$B$11),'De para simbolos'!$A$12,'De para simbolos'!$B$12),'De para simbolos'!$A$13,'De para simbolos'!$B$13),'De para simbolos'!$A$14,'De para simbolos'!$B$14),'De para simbolos'!$A$15,'De para simbolos'!$B$15),'De para simbolos'!$A$16,'De para simbolos'!$B$16),'De para simbolos'!$A$17,'De para simbolos'!$B$17),'De para simbolos'!$A$18,'De para simbolos'!$B$18),'De para simbolos'!$A$19,'De para simbolos'!$B$19),'De para simbolos'!$A$20,'De para simbolos'!$B$20),'De para simbolos'!$A$21,'De para simbolos'!$B$21),'De para simbolos'!$A$22,'De para simbolos'!$B$22),'De para simbolos'!$A$23,'De para simbolos'!$B$23),'De para simbolos'!$A$24,'De para simbolos'!$B$24) -> Cetiol® AB es un emoliente de dispersión media con buenas propiedades solubilizantes para filtros UV cristalinos. | H10: Excelente sensorial / Excellent sensory | I10: ART:dcxsaProductCatalog:Online,MS:dcxsaProductCatalog:Online,PF:dcxsaProductCatalog:Online,AP:dcxsaProductCatalog:Online,PG:dcxsaProductCatalog:Online,FU:dcxsaProductCatalog:Online,MS_810:dcxsaProductCatalog:Online,MS_500:dcxsaProductCatalog:Online,AP_1700:dcxsaProductCatalog:Online,AP_300:dcxsaProductCatalog:Online,AP_1500:dcxsaProductCatalog:Online,AP_600:dcxsaProductCatalog:Online,AP_800:dcxsaProductCatalog:Online,AP_400:dcxsaProductCatalog:Online,AP_1000:dcxsaProductCatalog:Online,PG_900:dcxsaProductCatalog:Online,FU_1100:dcxsaProductCatalog:Online,Emollients:dcxsaProductCatalog:Online,Emollients:dcxsaProductCatalog:Online,EL:DcxsaClassification:1.0,PG_4000:dcxsaProductCatalog:Online,MS_100:dcxsaProductCatalog:Online,AP_100:dcxsaProductCatalog:Online,AP_300:dcxsaProductCatalog:Online,AP_500:dcxsaProductCatalog:Online,MS_500:dcxsaProductCatalog:Online,FU_5000:dcxsaProductCatalog:Online | K10: approved | L10: PRODUCT | M10: Emoliente | O10: Liquid | P10: Sun Care; Skin Rinse-off; Body Care; Face Care | Q10: After Sun; Baby Care and Cleansing; Body Care; Face Care; Face Cleansing; Make-up; Self Tanning; Sun Protection | S10: Ester | T10: Cetiol® AB | AG10: Tambor de aço 175kg | AJ10: High | AK10: Cold Process | AL10: 1485 | AM10: 400 | AQ10: 2 - 10 | AR10: 0.5 | AU10: Cadastrado
A11: 30532172 | B11: EMB | C11: Cetiol® LDO | D11: Dicaprylyl Ether (and) Lauryl Alcohol | E11: Emollient mixture preferably suited as a lipid layer enhancer in surfactant cleansing preparations like shower baths and as an emollient additive for shampoos. | F11: Mistura de emolientes que atua como intensificador da camada lipídica em formulações de limpeza. | G11: =SUBSTITUTE(SUBSTITUTE(SUBSTITUTE(SUBSTITUTE(SUBSTITUTE(SUBSTITUTE(SUBSTITUTE(SUBSTITUTE(SUBSTITUTE(SUBSTITUTE(SUBSTITUTE(SUBSTITUTE(SUBSTITUTE(SUBSTITUTE(SUBSTITUTE(SUBSTITUTE(SUBSTITUTE(SUBSTITUTE(SUBSTITUTE(SUBSTITUTE(SUBSTITUTE(SUBSTITUTE(SUBSTITUTE(VLOOKUP(A11,Sheet1!$C:$G,5,0),'De para simbolos'!$A$2,'De para simbolos'!$B$2),'De para simbolos'!$A$3,'De para simbolos'!$B$3),'De para simbolos'!$A$4,'De para simbolos'!$B$4),'De para simbolos'!$A$5,'De para simbolos'!$B$5),'De para simbolos'!$A$6,'De para simbolos'!$B$6),'De para simbolos'!$A$7,'De para simbolos'!$B$7),'De para simbolos'!$A$8,'De para simbolos'!$B$8),'De para simbolos'!$A$9,'De para simbolos'!$B$9),'De para simbolos'!$A$10,'De para simbolos'!$B$10),'De para simbolos'!$A$11,'De para simbolos'!$B$11),'De para simbolos'!$A$12,'De para simbolos'!$B$12),'De para simbolos'!$A$13,'De para simbolos'!$B$13),'De para simbolos'!$A$14,'De para simbolos'!$B$14),'De para simbolos'!$A$15,'De para simbolos'!$B$15),'De para simbolos'!$A$16,'De para simbolos'!$B$16),'De para simbolos'!$A$17,'De para simbolos'!$B$17),'De para simbolos'!$A$18,'De para simbolos'!$B$18),'De para simbolos'!$A$19,'De para simbolos'!$B$19),'De para simbolos'!$A$20,'De para simbolos'!$B$20),'De para simbolos'!$A$21,'De para simbolos'!$B$21),'De para simbolos'!$A$22,'De para simbolos'!$B$22),'De para simbolos'!$A$23,'De para simbolos'!$B$23),'De para simbolos'!$A$24,'De para simbolos'!$B$24) -> Emoliente condicionante para Shampoo. | H11: Excelente sensorial / Excellent sensory | I11: Emollients:dcxsaProductCatalog:Online,AP_800:dcxsaProductCatalog:Online,AP_1100:dcxsaProductCatalog:Online,AP_1200:dcxsaProductCatalog:Online,AP_300:dcxsaProductCatalog:Online,PG_900:dcxsaProductCatalog:Online,FU_1100:dcxsaProductCatalog:Online,Emollients:dcxsaProductCatalog:Online,MS_1210:dcxsaProductCatalog:Online,EL:DcxsaClassification:1.0 | K11: unapproved | L11: PRODUCT | M11: Emoliente | O11: Liquid | P11: Skin Rinse-off; Body Care; Hair Conditioning/Shampoo; Others | Q11: Baby Care and Cleansing; Face Cleansing; Liquid Soap; Personal Care Wipes; Shampoo; Shower/Bath Products | S11: Ester | T11: Cetiol® LDO | AG11: Tambor de aço 170kg | AK11: Cold Process | AM11: n/a | AQ11: 0,5 - 1,0 | AR11: 3 | AU11: Informacão não localizada no MIP, para colocar na Categorization na aba 3* can be used for ( Personal Care Wipes e shower/bath )
A12: 30535766 | B12: EMB | C12: Cetiol® Sensoft | D12: Propylheptyl Caprylate | E12: Fast spreading emollient with a multi-dimensional softness for all cosmetic applications (happy emollient), good performance of wetting powder. | F12: Emoliente de alta espalhabilidade com maciez multidimensional para todas as aplicações cosméticas (emoliente feliz), ótimo desempenho como umectante para pós. | G12: =SUBSTITUTE(SUBSTITUTE(SUBSTITUTE(SUBSTITUTE(SUBSTITUTE(SUBSTITUTE(SUBSTITUTE(SUBSTITUTE(SUBSTITUTE(SUBSTITUTE(SUBSTITUTE(SUBSTITUTE(SUBSTITUTE(SUBSTITUTE(SUBSTITUTE(SUBSTITUTE(SUBSTITUTE(SUBSTITUTE(SUBSTITUTE(SUBSTITUTE(SUBSTITUTE(SUBSTITUTE(SUBSTITUTE(VLOOKUP(A12,Sheet1!$C:$G,5,0),'De para simbolos'!$A$2,'De para simbolos'!$B$2),'De para simbolos'!$A$3,'De para simbolos'!$B$3),'De para simbolos'!$A$4,'De para simbolos'!$B$4),'De para simbolos'!$A$5,'De para simbolos'!$B$5),'De para simbolos'!$A$6,'De para simbolos'!$B$6),'De para simbolos'!$A$7,'De para simbolos'!$B$7),'De para simbolos'!$A$8,'De para simbolos'!$B$8),'De para simbolos'!$A$9,'De para simbolos'!$B$9),'De para simbolos'!$A$10,'De para simbolos'!$B$10),'De para simbolos'!$A$11,'De para simbolos'!$B$11),'De para simbolos'!$A$12,'De para simbolos'!$B$12),'De para simbolos'!$A$13,'De para simbolos'!$B$13),'De para simbolos'!$A$14,'De para simbolos'!$B$14),'De para simbolos'!$A$15,'De para simbolos'!$B$15),'De para simbolos'!$A$16,'De para simbolos'!$B$16),'De para simbolos'!$A$17,'De para simbolos'!$B$17),'De para simbolos'!$A$18,'De para simbolos'!$B$18),'De para simbolos'!$A$19,'De para simbolos'!$B$19),'De para simbolos'!$A$20,'De para simbolos'!$B$20),'De para simbolos'!$A$21,'De para simbolos'!$B$21),'De para simbolos'!$A$22,'De para simbolos'!$B$22),'De para simbolos'!$A$23,'De para simbolos'!$B$23),'De para simbolos'!$A$24,'De para simbolos'!$B$24) -> Emoliente de rápida difusión con suavidad multidimensional para todas las aplicaciones cosméticas (emoliente feliz), buen comportamiento de polvo humectante. | H12: Excelente sensorial / Excellent sensory | I12: ART:dcxsaProductCatalog:Online,MS:dcxsaProductCatalog:Online,PF:dcxsaProductCatalog:Online,AP:dcxsaProductCatalog:Online,PG:dcxsaProductCatalog:Online,FU:dcxsaProductCatalog:Online,MS_810:dcxsaProductCatalog:Online,MS_100:dcxsaProductCatalog:Online,MS_500:dcxsaProductCatalog:Online,MS_700:dcxsaProductCatalog:Online,AP_1700:dcxsaProductCatalog:Online,AP_100:dcxsaProductCatalog:Online,AP_300:dcxsaProductCatalog:Online,AP_1500:dcxsaProductCatalog:Online,AP_600:dcxsaProductCatalog:Online,AP_1800:dcxsaProductCatalog:Online,AP_800:dcxsaProductCatalog:Online,AP_1600:dcxsaProductCatalog:Online,AP_400:dcxsaProductCatalog:Online,AP_1000:dcxsaProductCatalog:Online,PG_900:dcxsaProductCatalog:Online,FU_1100:dcxsaProductCatalog:Online,Emollients:dcxsaProductCatalog:Online,Emollients:dcxsaProductCatalog:Online,EL:DcxsaClassification:1.0,PG_4200:dcxsaProductCatalog:Online,FU_5200:dcxsaProductCatalog:Online | K12: approved | L12: PRODUCT | M12: Emoliente | O12: Liquid | P12: Sun Care; AP/Deo; Skin Rinse-off; Body Care; Face Care; Others | Q12: After Sun; Antiperspirants & Deodorants; Baby Care and Cleansing; Body Care; Face Care; Face Cleansing; Make-up; Personal Care Wipes; Self Tanning; Sun Protection | S12: Ester | T12: Cetiol® Sensoft | AG12: Bombona plástica 10kg ou Tambor de aço 175kg | AJ12: Medium | AK12: Cold Process | AL12: 1444 | AM12: 1900 | AQ12: 2 - 15 | AR12: 1 | AU12: Cadastrado
A13: 30597825 | B13: EMB | C13: CETIOL® ULTIMATE | D13: Undecane (and) Tridecane | E13: Natural-based hydrocarbon as an alternative for silicones in all skin care applications. Due to its volatility and fast spreadability it forms dry, smooth textures for cosmetic creams and lotions. | F13: Hidrocarboneto de base natural como alternativa aos silicones em todas as aplicações de cuidados com a pele. Devido à sua alta volatilidade e alta espalhabilidade, proporciona texturas secas e suaves para cremes e loções cosméticas. | G13: =SUBSTITUTE(SUBSTITUTE(SUBSTITUTE(SUBSTITUTE(SUBSTITUTE(SUBSTITUTE(SUBSTITUTE(SUBSTITUTE(SUBSTITUTE(SUBSTITUTE(SUBSTITUTE(SUBSTITUTE(SUBSTITUTE(SUBSTITUTE(SUBSTITUTE(SUBSTITUTE(SUBSTITUTE(SUBSTITUTE(SUBSTITUTE(SUBSTITUTE(SUBSTITUTE(SUBSTITUTE(SUBSTITUTE(VLOOKUP(A13,Sheet1!$C:$G,5,0),'De para simbolos'!$A$2,'De para simbolos'!$B$2),'De para simbolos'!$A$3,'De para simbolos'!$B$3),'De para simbolos'!$A$4,'De para simbolos'!$B$4),'De para simbolos'!$A$5,'De para simbolos'!$B$5),'De para simbolos'!$A$6,'De para simbolos'!$B$6),'De para simbolos'!$A$7,'De para simbolos'!$B$7),'De para simbolos'!$A$8,'De para simbolos'!$B$8),'De para simbolos'!$A$9,'De para simbolos'!$B$9),'De para simbolos'!$A$10,'De para simbolos'!$B$10),'De para simbolos'!$A$11,'De para simbolos'!$B$11),'De para simbolos'!$A$12,'De para simbolos'!$B$12),'De para simbolos'!$A$13,'De para simbolos'!$B$13),'De para simbolos'!$A$14,'De para simbolos'!$B$14),'De para simbolos'!$A$15,'De para simbolos'!$B$15),'De para simbolos'!$A$16,'De para simbolos'!$B$16),'De para simbolos'!$A$17,'De para simbolos'!$B$17),'De para simbolos'!$A$18,'De para simbolos'!$B$18),'De para simbolos'!$A$19,'De para simbolos'!$B$19),'De para simbolos'!$A$20,'De para simbolos'!$B$20),'De para simbolos'!$A$21,'De para simbolos'!$B$21),'De para simbolos'!$A$22,'De para simbolos'!$B$22),'De para simbolos'!$A$23,'De para simbolos'!$B$23),'De para simbolos'!$A$24,'De para simbolos'!$B$24) -> Cetiol® Ultimate es un hidrocarburo de base natural como alternativa a las siliconas en todas las aplicaciones para el cuidado de la piel. Debido a su volatilidad y rápida capacidad de untar, forma texturas suaves y secas para cremas y lociones cosméticas. | H13: Excelente sensorial, Alternativa ao silicone, Beleza transparente, Cosméticos naturais / Transparent beauty; Excellent sensory; Alternative to silicone | I13: ART:dcxsaProductCatalog:Online,PF:dcxsaProductCatalog:Online,MS_700:dcxsaProductCatalog:Online,MS_500:dcxsaProductCatalog:Online,MS_810:dcxsaProductCatalog:Online,AP_300:dcxsaProductCatalog:Online,AP_400:dcxsaProductCatalog:Online,AP_600:dcxsaProductCatalog:Online,AP:dcxsaProductCatalog:Online,AP_800:dcxsaProductCatalog:Online,AP_1000:dcxsaProductCatalog:Online,AP_1500:dcxsaProductCatalog:Online,AP_1600:dcxsaProductCatalog:Online,AP_1700:dcxsaProductCatalog:Online,AP_1800:dcxsaProductCatalog:Online,PG_900:dcxsaProductCatalog:Online,PG:dcxsaProductCatalog:Online,FU_1100:dcxsaProductCatalog:Online,Emollients:dcxsaProductCatalog:Online,EL:DcxsaClassification:1.0,FU_5900:dcxsaProductCatalog:Online,PG_5100:dcxsaProductCatalog:Online,FU:dcxsaProductCatalog:Online,MS:dcxsaProductCatalog:Online,Emollients:dcxsaProductCatalog:Online | K13: approved | L13: PRODUCT | M13: Emoliente | O13: Liquid | P13: Sun Care; Skin Rinse-off; Body Care; Face Care; Others | S13: Hydrocarbon | T13: Cetiol® Ultimate | AJ13: Low | AK13: Cold Process | AL13: 1419 | AM13: >2500 | AQ13: 2 - 15 | AR13: 3 | AU13: Informações faltando cadastrar no PIM, Application
A14: 30527834 | B14: EMB | C14: Lameform® TGI | D14: Polyglyceryl-3 Diisostearate | E14: Nonionic W/O emulsifier for creams and lotions. | F14: Emulsificante não-iônico para cremes e loções do tipo a/O. | G14: Emulsionante no iónico para cremas y lociones tipo W/O. | I14: ART:dcxsaProductCatalog:Online,MS:dcxsaProductCatalog:Online,PF:dcxsaProductCatalog:Online,AP:dcxsaProductCatalog:Online,PG:dcxsaProductCatalog:Online,FU:dcxsaProductCatalog:Online,MS_810:dcxsaProductCatalog:Online,MS_500:dcxsaProductCatalog:Online,MS_700:dcxsaProductCatalog:Online,AP_1700:dcxsaProductCatalog:Online,AP_300:dcxsaProductCatalog:Online,AP_1500:dcxsaProductCatalog:Online,AP_1800:dcxsaProductCatalog:Online,AP_1600:dcxsaProductCatalog:Online,AP_400:dcxsaProductCatalog:Online,AP_1000:dcxsaProductCatalog:Online,PG_1000:dcxsaProductCatalog:Online,FU_1200:dcxsaProductCatalog:Online,Emulsifier:dcxsaProductCatalog:Online,EM:DcxsaClassification:1.0 | K14: unapproved | L14: PRODUCT | M14: Emulsionante O/A | N14: aprox 100 | O14: Liquid | P14: Sun Care; Skin Rinse-off; Body Care; Face Care; Others | Q14: After Sun; Baby Care and Cleansing; Body Care; Face Care; Personal Care Wipes; Self Tanning; Sun Protection | T14: Lameform® TGI | Y14: W/O Emulsifier | Z14: ** | AG14: Tambor de plástico 190kg | AK14: Cold Process | AQ14: 1 -2 | AR14: 3 | AU14: Informacão não localizada no PIM, para colocar na Categorization na aba 3* can be used for ( Personal Care Wipes e shower/bath )
A15: 30527866 | B15: EMB | C15: EMULGADE® PL 68/50 | D15: Cetearyl Glucoside (and) Cetearyl Alcohol | E15: Nonionic, self emulsifying cream base suitable for all kind of cosmetic O/W emulsions. | F15: Base auto emulsionante, não-iônica, aplicável a todo tipo de emulsões cosméticas do tipo O/W. | G15: =SUBSTITUTE(SUBSTITUTE(SUBSTITUTE(SUBSTITUTE(SUBSTITUTE(SUBSTITUTE(SUBSTITUTE(SUBSTITUTE(SUBSTITUTE(SUBSTITUTE(SUBSTITUTE(SUBSTITUTE(SUBSTITUTE(SUBSTITUTE(SUBSTITUTE(SUBSTITUTE(SUBSTITUTE(SUBSTITUTE(SUBSTITUTE(SUBSTITUTE(SUBSTITUTE(SUBSTITUTE(SUBSTITUTE(VLOOKUP(A15,Sheet1!$C:$G,5,0),'De para simbolos'!$A$2,'De para simbolos'!$B$2),'De para simbolos'!$A$3,'De para simbolos'!$B$3),'De para simbolos'!$A$4,'De para simbolos'!$B$4),'De para simbolos'!$A$5,'De para simbolos'!$B$5),'De para simbolos'!$A$6,'De para simbolos'!$B$6),'De para simbolos'!$A$7,'De para simbolos'!$B$7),'De para simbolos'!$A$8,'De para simbolos'!$B$8),'De para simbolos'!$A$9,'De para simbolos'!$B$9),'De para simbolos'!$A$10,'De para simbolos'!$B$10),'De para simbolos'!$A$11,'De para simbolos'!$B$11),'De para simbolos'!$A$12,'De para simbolos'!$B$12),'De para simbolos'!$A$13,'De para simbolos'!$B$13),'De para simbolos'!$A$14,'De para simbolos'!$B$14),'De para simbolos'!$A$15,'De para simbolos'!$B$15),'De para simbolos'!$A$16,'De para simbolos'!$B$16),'De para simbolos'!$A$17,'De para simbolos'!$B$17),'De para simbolos'!$A$18,'De para simbolos'!$B$18),'De para simbolos'!$A$19,'De para simbolos'!$B$19),'De para simbolos'!$A$20,'De para simbolos'!$B$20),'De para simbolos'!$A$21,'De para simbolos'!$B$21),'De para simbolos'!$A$22,'De para simbolos'!$B$22),'De para simbolos'!$A$23,'De para simbolos'!$B$23),'De para simbolos'!$A$24,'De para simbolos'!$B$24) -> Emulgade® PL 68/50 es una crema base autoemulsionante no iónica apta para todo tipo de emulsiones cosméticas O/W. | H15: Excelente sensorial / Excellent sensory | I15: MS:dcxsaProductCatalog:Online,ART:dcxsaProductCatalog:Online,PF:dcxsaProductCatalog:Online,MS_500:dcxsaProductCatalog:Online,MS_810:dcxsaProductCatalog:Online,AP_300:dcxsaProductCatalog:Online,AP_400:dcxsaProductCatalog:Online,AP_600:dcxsaProductCatalog:Online,AP:dcxsaProductCatalog:Online,AP_800:dcxsaProductCatalog:Online,AP_1000:dcxsaProductCatalog:Online,AP_1500:dcxsaProductCatalog:Online,AP_1700:dcxsaProductCatalog:Online,AP_1800:dcxsaProductCatalog:Online,PG_600:dcxsaProductCatalog:Online,PG:dcxsaProductCatalog:Online,FU_700:dcxsaProductCatalog:Online,FU:dcxsaProductCatalog:Online,EM:DcxsaClassification:1.0,EM:DcxsaClassification:1.0,FU_5400:dcxsaProductCatalog:Online,StockLevel:dcxsaProductCatalog:Online,PG_4400:dcxsaProductCatalog:Online | J15: true | K15: unapproved | L15: PRODUCT | M15: Emulsionante O/A | N15: aprox. 50 | O15: Pellets | P15: Sun Care; Skin Rinse-off; Body Care; Face Care | Q15: After Sun; Baby Care and Cleansing; Body Care; Face Care; Face Cleansing; Make-up; Self Tanning; Sun Protection | T15: Emulgade® PL 6850 | Y15: O/W Emulsifier | Z15: ** | AK15: Hot process | AQ15: 2 – 4 | AR15: 3 | AU15: Cadastrado
A16: 30527928 | B16: EMB | C16: Dehymuls® PGPH | D16: Polyglyceryl-2 Dipolyhydroxystearate | E16: W/O-emulsifier for the preparation of all kind of W/O-emulsions. | F16: Emulsionante A/O ideal para emulsões do tipo A/O. | G16: Emulsionante ideal para emulsiones tipo W/O. | H16: Excelente sensorial / Excellent sensory | I16: MS_100:dcxsaProductCatalog:Online,MS:dcxsaProductCatalog:Online,ART:dcxsaProductCatalog:Online,PF:dcxsaProductCatalog:Online,MS_500:dcxsaProductCatalog:Online,MS_810:dcxsaProductCatalog:Online,AP_100:dcxsaProductCatalog:Online,AP_300:dcxsaProductCatalog:Online,AP_400:dcxsaProductCatalog:Online,AP_600:dcxsaProductCatalog:Online,AP:dcxsaProductCatalog:Online,AP_1000:dcxsaProductCatalog:Online,AP_1500:dcxsaProductCatalog:Online,AP_1700:dcxsaProductCatalog:Online,AP_1800:dcxsaProductCatalog:Online,PG:dcxsaProductCatalog:Online,PG_1000:dcxsaProductCatalog:Online,Emulsifier:dcxsaProductCatalog:Online,FU_1200:dcxsaProductCatalog:Online,FU:dcxsaProductCatalog:Online,EM:DcxsaClassification:1.0 | K16: unapproved | L16: PRODUCT | M16: Emulsionante A/O | N16: aprox 100 | O16: Liquid | P16: Sun Care; AP/Deo; Skin Rinse-off; Body Care; Face Care | Q16: After Sun; Antiperspirants & Deodorants; Baby Care and Cleansing; Body Care; Face Care; Make-up; Self Tanning; Sun Protection | T16: Dehymuls® PGPH | Y16: W/O Emulsifier | Z16: *** | AG16: Tambor de plástico 190kg | AK16: Cold Process | AQ16: 3 - 5 | AR16: 3 | AU16: Cadastrado
A17: 30535931 | B17: EMB | C17: ACTIWHITE LS 9808 | D17: Water (and) Glycerin (and) Sucrose Dilaurate (and) Polysorbate 20 (and) Pisum Sativum (Pea) Extract | F17: Actiwhite® é um ativo extraído da ervilha que reduz manchas e uniformiza o tom da pele, com eficácia superior à hidriquinona e a vantagem de ser de origem natural e não ser fotossensível. | G17: Actiwhite® es un activo extraído del guisante que reduce las manchas y unifica el tono de la piel, con una eficacia superior a la hidroxiquinona y la ventaja de ser de origen natural y no ser fotosensible. | H17: Tratamento de manchas / Stain treatment | M17: Ativo | O17: #N/A | P17: #N/A | AU17: Informações faltando cadastrar no PIM, Application/ classificationClass / Description[es] Ingles
A18: 30533295 | B18: EMB | C18: Emulgade® Sucro | D18: Sucrose Polystearate (and) Hydrogenated Polyisobutene | E18: Very mild, sucrose based, nonionic emulsifier, delivers velvety textures and provides moisturizing benefits, synergy effect in formulations with Eumulgin® SG, suitable for various skincare applications. | F18: Eumulsioante não ionico de excelente sensorial | G18: Emulsionante no iónico a base de sacarosa, muy suave, brinda texturas aterciopeladas y beneficios humectantes, efecto sinérgico en formulaciones con Eumulgin® SG, apto para diversas aplicaciones de cuidado de la piel. | H18: Excelente sensorial / Excellent sensory | I18: ART:dcxsaProductCatalog:Online,MS:dcxsaProductCatalog:Online,PF:dcxsaProductCatalog:Online,AP:dcxsaProductCatalog:Online,PG:dcxsaProductCatalog:Online,FU:dcxsaProductCatalog:Online,MS_810:dcxsaProductCatalog:Online,MS_500:dcxsaProductCatalog:Online,AP_1700:dcxsaProductCatalog:Online,AP_300:dcxsaProductCatalog:Online,AP_1500:dcxsaProductCatalog:Online,AP_600:dcxsaProductCatalog:Online,AP_2300:dcxsaProductCatalog:Online,AP_800:dcxsaProductCatalog:Online,AP_400:dcxsaProductCatalog:Online,AP_1000:dcxsaProductCatalog:Online,PG_600:dcxsaProductCatalog:Online,FU_700:dcxsaProductCatalog:Online,Emulsifier:dcxsaProductCatalog:Online,EM:DcxsaClassification:1.0 | K18: approved | L18: PRODUCT | M18: Emulsionante O/A | N18: 78 - 85 | O18: Pellets | P18: Sun Care; Skin Rinse-off; Body Care; Face Care | Q18: After Sun; Baby Care and Cleansing; Body Care; Face Care; Face Cleansing; Make-up; Self Tanning; Sun Protection | T18: Emulgade® Sucro | Y18: O/W Emulsifier | Z18: ** | AG18: Saco plástico 25kg | AK18: Hot process | AQ18: 1 - 5 | AR18: 2 | AU18: Cadastrado
A19: 30537422 | B19: EMB | C19: EUMULGIN® PRISMA | D19: Disodium Cetearyl Sulfosuccinate | E19: Anionic O/W emulsifier suitable for various applications, especially sun care formulations. | F19: Emulsificante aniônico O/W ideal para diversas aplicações cosméticas, especialmente formulações de proteção solar. | G19: Emulsionante aniónico O/W ideal para diversas aplicaciones cosméticas, especialmente formulaciones de protección solar. | H19: Excelente sensorial / Excellent sensory | I19: MS_100:dcxsaProductCatalog:Online,MS:dcxsaProductCatalog:Online,ART:dcxsaProductCatalog:Online,PF:dcxsaProductCatalog:Online,MS_500:dcxsaProductCatalog:Online,MS_810:dcxsaProductCatalog:Online,AP_100:dcxsaProductCatalog:Online,AP_300:dcxsaProductCatalog:Online,AP_400:dcxsaProductCatalog:Online,AP_600:dcxsaProductCatalog:Online,AP:dcxsaProductCatalog:Online,AP_800:dcxsaProductCatalog:Online,AP_1000:dcxsaProductCatalog:Online,AP_1500:dcxsaProductCatalog:Online,AP_1700:dcxsaProductCatalog:Online,AP_1800:dcxsaProductCatalog:Online,PG:dcxsaProductCatalog:Online,PG_1200:dcxsaProductCatalog:Online,Emulsifier:dcxsaProductCatalog:Online,FU:dcxsaProductCatalog:Online,FU_1300:dcxsaProductCatalog:Online,EM:DcxsaClassification:1.0,PG_4400:dcxsaProductCatalog:Online,MS_1210:dcxsaProductCatalog:Online,AP_100:dcxsaProductCatalog:Online,AP_500:dcxsaProductCatalog:Online,MS_310:dcxsaProductCatalog:Online,FU_5400:dcxsaProductCatalog:Online | K19: approved | L19: PRODUCT | M19: Emulsionante O/A | N19: min. 95 | O19: Powder | P19: Sun Care; AP/Deo; Skin Rinse-off; Body Care; Face Care | Q19: After Sun; Antiperspirants & Deodorants; Baby Care and Cleansing; Body Care; Face Care; Face Cleansing; Make-up; Self Tanning; Sun Protection | T19: Eumulgin™ Prisma | Y19: O/W Emulsifier | Z19: *** | AG19: Tambor de papelão 10kg | AK19: Hot process | AQ19: 0,25 - 1,5 | AR19: 2 | AU19: Cadastrado
A20: 30537089 | B20: EMB | C20: ACTIWHITE® PW LS 9860 | D20: Maltodextrin (and) Sucrose Dilaurate (and) Sodium Cocoyl Glutamate (and) Pisum Sativum (Pea) Extract | F20: Actiwhite® é um ativo extraído da ervilha que reduz manchas e uniformiza o tom da pele, com eficácia superior à hidriquinona e a vantagem de ser de origem natural e não ser fotossensível. | G20: =SUBSTITUTE(SUBSTITUTE(SUBSTITUTE(SUBSTITUTE(SUBSTITUTE(SUBSTITUTE(SUBSTITUTE(SUBSTITUTE(SUBSTITUTE(SUBSTITUTE(SUBSTITUTE(SUBSTITUTE(SUBSTITUTE(SUBSTITUTE(SUBSTITUTE(SUBSTITUTE(SUBSTITUTE(SUBSTITUTE(SUBSTITUTE(SUBSTITUTE(SUBSTITUTE(SUBSTITUTE(SUBSTITUTE(VLOOKUP(A20,Sheet1!$C:$G,5,0),'De para simbolos'!$A$2,'De para simbolos'!$B$2),'De para simbolos'!$A$3,'De para simbolos'!$B$3),'De para simbolos'!$A$4,'De para simbolos'!$B$4),'De para simbolos'!$A$5,'De para simbolos'!$B$5),'De para simbolos'!$A$6,'De para simbolos'!$B$6),'De para simbolos'!$A$7,'De para simbolos'!$B$7),'De para simbolos'!$A$8,'De para simbolos'!$B$8),'De para simbolos'!$A$9,'De para simbolos'!$B$9),'De para simbolos'!$A$10,'De para simbolos'!$B$10),'De para simbolos'!$A$11,'De para simbolos'!$B$11),'De para simbolos'!$A$12,'De para simbolos'!$B$12),'De para simbolos'!$A$13,'De para simbolos'!$B$13),'De para simbolos'!$A$14,'De para simbolos'!$B$14),'De para simbolos'!$A$15,'De para simbolos'!$B$15),'De para simbolos'!$A$16,'De para simbolos'!$B$16),'De para simbolos'!$A$17,'De para simbolos'!$B$17),'De para simbolos'!$A$18,'De para simbolos'!$B$18),'De para simbolos'!$A$19,'De para simbolos'!$B$19),'De para simbolos'!$A$20,'De para simbolos'!$B$20),'De para simbolos'!$A$21,'De para simbolos'!$B$21),'De para simbolos'!$A$22,'De para simbolos'!$B$22),'De para simbolos'!$A$23,'De para simbolos'!$B$23),'De para simbolos'!$A$24,'De para simbolos'!$B$24) -> #N/A | H20: Tratamento de manchas / Stain treatment | M20: Ativo | O20: Powder | P20: Body Care; Face Care | AU20: Informações faltando cadastrar no PIM, Application/ classificationClass / Description[es] Espanhol e Ingles
